BEGIN:VCALENDAR
VERSION:2.0
PRODID:-//CTTS  - ECPv6.15.17.1//NONSGML v1.0//EN
CALSCALE:GREGORIAN
METHOD:PUBLISH
X-ORIGINAL-URL:https://www.crosslinktaxtech.com
X-WR-CALDESC:Events for CTTS 
REFRESH-INTERVAL;VALUE=DURATION:PT1H
X-Robots-Tag:noindex
X-PUBLISHED-TTL:PT1H
BEGIN:VTIMEZONE
TZID:America/Los_Angeles
BEGIN:DAYLIGHT
TZOFFSETFROM:-0800
TZOFFSETTO:-0700
TZNAME:PDT
DTSTART:20250309T100000
END:DAYLIGHT
BEGIN:STANDARD
TZOFFSETFROM:-0700
TZOFFSETTO:-0800
TZNAME:PST
DTSTART:20251102T090000
END:STANDARD
BEGIN:DAYLIGHT
TZOFFSETFROM:-0800
TZOFFSETTO:-0700
TZNAME:PDT
DTSTART:20260308T100000
END:DAYLIGHT
BEGIN:STANDARD
TZOFFSETFROM:-0700
TZOFFSETTO:-0800
TZNAME:PST
DTSTART:20261101T090000
END:STANDARD
BEGIN:DAYLIGHT
TZOFFSETFROM:-0800
TZOFFSETTO:-0700
TZNAME:PDT
DTSTART:20270314T100000
END:DAYLIGHT
BEGIN:STANDARD
TZOFFSETFROM:-0700
TZOFFSETTO:-0800
TZNAME:PST
DTSTART:20271107T090000
END:STANDARD
END:VTIMEZONE
BEGIN:VEVENT
DTSTART;VALUE=DATE:20260707
DTEND;VALUE=DATE:20260710
DTSTAMP:20260421T080758
CREATED:20260316T203951Z
LAST-MODIFIED:20260316T203951Z
UID:10000079-1783382400-1783641599@www.crosslinktaxtech.com
SUMMARY:2026 IRS Nationwide Tax Forum - Hyatt Regency Chicago
DESCRIPTION:Join the CrossLink Tax Tech Solutions Team at the IRS Nationwide Tax Forum – empowering tax professionals with up-to-date federal and state tax insights delivered by IRS and partner organization experts via diverse training seminars and workshops.
URL:https://www.crosslinktaxtech.com/event/2026-irs-nationwide-tax-forum-hyatt-regency-chicago/
LOCATION:Hyatt Regency Chicago\, 151 East Wacker Drive\, Chicago\, IL\, 60601\, United States
CATEGORIES:Trade Show
ATTACH;FMTTYPE=image/jpeg:https://www.crosslinktaxtech.com/wp-content/uploads/2026/01/2026-IRS-Forum-Event-Header.jpg
END:VEVENT
END:VCALENDAR