BEGIN:VCALENDAR
VERSION:2.0
PRODID:-//CTTS  - ECPv6.15.17.1//NONSGML v1.0//EN
CALSCALE:GREGORIAN
METHOD:PUBLISH
X-ORIGINAL-URL:https://www.crosslinktaxtech.com
X-WR-CALDESC:Events for CTTS 
REFRESH-INTERVAL;VALUE=DURATION:PT1H
X-Robots-Tag:noindex
X-PUBLISHED-TTL:PT1H
BEGIN:VTIMEZONE
TZID:America/Los_Angeles
BEGIN:DAYLIGHT
TZOFFSETFROM:-0800
TZOFFSETTO:-0700
TZNAME:PDT
DTSTART:20250309T100000
END:DAYLIGHT
BEGIN:STANDARD
TZOFFSETFROM:-0700
TZOFFSETTO:-0800
TZNAME:PST
DTSTART:20251102T090000
END:STANDARD
BEGIN:DAYLIGHT
TZOFFSETFROM:-0800
TZOFFSETTO:-0700
TZNAME:PDT
DTSTART:20260308T100000
END:DAYLIGHT
BEGIN:STANDARD
TZOFFSETFROM:-0700
TZOFFSETTO:-0800
TZNAME:PST
DTSTART:20261101T090000
END:STANDARD
BEGIN:DAYLIGHT
TZOFFSETFROM:-0800
TZOFFSETTO:-0700
TZNAME:PDT
DTSTART:20270314T100000
END:DAYLIGHT
BEGIN:STANDARD
TZOFFSETFROM:-0700
TZOFFSETTO:-0800
TZNAME:PST
DTSTART:20271107T090000
END:STANDARD
END:VTIMEZONE
BEGIN:VEVENT
DTSTART;VALUE=DATE:20260622
DTEND;VALUE=DATE:20260626
DTSTAMP:20260421T080628
CREATED:20260112T224256Z
LAST-MODIFIED:20260112T224256Z
UID:10000072-1782086400-1782431999@www.crosslinktaxtech.com
SUMMARY:2026 LTPA Latino Tax Fest
DESCRIPTION:Join the CrossLink Tax Tech Solutions Team at the 2026 Latino Tax Fest – the national conference for all tax professionals\, including Enrolled Agents\, CPAs\, and others who aspire to grow\, lead\, and pursue continuous education in the tax industry.
URL:https://www.crosslinktaxtech.com/event/2026-ltpa-latino-tax-fest/
LOCATION:MGM Grand Hotel & Casino\, 3799 S Las Vegas Blvd\, Las Vegas\, NV\, 89109\, United States
CATEGORIES:Trade Show
ATTACH;FMTTYPE=image/jpeg:https://www.crosslinktaxtech.com/wp-content/uploads/2026/01/2026-IRS-Forum-Event-Header-Latino-Tax-Fest.jpg
END:VEVENT
END:VCALENDAR