BEGIN:VCALENDAR
VERSION:2.0
PRODID:-//CTTS  - ECPv6.15.17.1//NONSGML v1.0//EN
CALSCALE:GREGORIAN
METHOD:PUBLISH
X-WR-CALNAME:CTTS 
X-ORIGINAL-URL:https://www.crosslinktaxtech.com
X-WR-CALDESC:Events for CTTS 
REFRESH-INTERVAL;VALUE=DURATION:PT1H
X-Robots-Tag:noindex
X-PUBLISHED-TTL:PT1H
BEGIN:VTIMEZONE
TZID:UTC
BEGIN:STANDARD
TZOFFSETFROM:+0000
TZOFFSETTO:+0000
TZNAME:UTC
DTSTART:20240101T000000
END:STANDARD
END:VTIMEZONE
BEGIN:VEVENT
DTSTART;VALUE=DATE:20250725
DTEND;VALUE=DATE:20250727
DTSTAMP:20260425T035235
CREATED:20250509T071129Z
LAST-MODIFIED:20250610T184559Z
UID:3448-1753401600-1753574399@www.crosslinktaxtech.com
SUMMARY:ABTP Tax Tour - Atlanta
DESCRIPTION:Join the CrossLink Team at the ABTP Tax Tour\, Atlanta – a new learning experience while connecting with other industry experts and gaining insights to take your career to the next level.
URL:https://www.crosslinktaxtech.com/event/abtp-tax-tour-atlanta/
CATEGORIES:Trade Show
ATTACH;FMTTYPE=image/jpeg:https://www.crosslinktaxtech.com/wp-content/uploads/2025/05/2025-TS-Events-Header-ABTP.jpg
END:VEVENT
END:VCALENDAR